BEGIN:VCALENDAR
VERSION:2.0
PRODID:-//One Faith Ministry Inc. - ECPv6.15.20//NONSGML v1.0//EN
CALSCALE:GREGORIAN
METHOD:PUBLISH
X-WR-CALNAME:One Faith Ministry Inc.
X-ORIGINAL-URL:https://onefaithministryinc.com
X-WR-CALDESC:Events for One Faith Ministry Inc.
REFRESH-INTERVAL;VALUE=DURATION:PT1H
X-Robots-Tag:noindex
X-PUBLISHED-TTL:PT1H
BEGIN:VTIMEZONE
TZID:America/Chicago
BEGIN:DAYLIGHT
TZOFFSETFROM:-0600
TZOFFSETTO:-0500
TZNAME:CDT
DTSTART:20200308T080000
END:DAYLIGHT
BEGIN:STANDARD
TZOFFSETFROM:-0500
TZOFFSETTO:-0600
TZNAME:CST
DTSTART:20201101T070000
END:STANDARD
BEGIN:DAYLIGHT
TZOFFSETFROM:-0600
TZOFFSETTO:-0500
TZNAME:CDT
DTSTART:20210314T080000
END:DAYLIGHT
BEGIN:STANDARD
TZOFFSETFROM:-0500
TZOFFSETTO:-0600
TZNAME:CST
DTSTART:20211107T070000
END:STANDARD
BEGIN:DAYLIGHT
TZOFFSETFROM:-0600
TZOFFSETTO:-0500
TZNAME:CDT
DTSTART:20220313T080000
END:DAYLIGHT
BEGIN:STANDARD
TZOFFSETFROM:-0500
TZOFFSETTO:-0600
TZNAME:CST
DTSTART:20221106T070000
END:STANDARD
BEGIN:DAYLIGHT
TZOFFSETFROM:-0600
TZOFFSETTO:-0500
TZNAME:CDT
DTSTART:20230312T080000
END:DAYLIGHT
BEGIN:STANDARD
TZOFFSETFROM:-0500
TZOFFSETTO:-0600
TZNAME:CST
DTSTART:20231105T070000
END:STANDARD
END:VTIMEZONE
BEGIN:VTIMEZONE
TZID:UTC
BEGIN:STANDARD
TZOFFSETFROM:+0000
TZOFFSETTO:+0000
TZNAME:UTC
DTSTART:20170101T000000
END:STANDARD
END:VTIMEZONE
BEGIN:VEVENT
DTSTART;TZID=America/Chicago:20220129T090000
DTEND;TZID=America/Chicago:20220129T150000
DTSTAMP:20260424T130054
CREATED:20220105T173613Z
LAST-MODIFIED:20220105T173637Z
UID:4851-1643446800-1643468400@onefaithministryinc.com
SUMMARY:Course 2: Advanced Christian Counseling
DESCRIPTION:Our Christian Counseling courses are designed to teach and train individuals on how to provide Godly counsel based on biblical principles. This is Course 2 of 3. ALL Christian Counseling courses are STAND ALONE courses; THEY DO NOT HAVE TO BE TAKEN IN ORDER. But you must take courses 1 and 2 to become certified. \nAll courses are currently held via Zoom. Zoom information will be sent to you upon registration. \nLearn More\nRegister Now
URL:https://onefaithministryinc.com/event/course-2-christian-counseling-1-29-22/
LOCATION:Virtual
ATTACH;FMTTYPE=image/jpeg:https://onefaithministryinc.com/wp-content/uploads/2022/01/OFM_Course2-Screen1-29-22.jpg
END:VEVENT
BEGIN:VEVENT
DTSTART;TZID=America/Chicago:20211218T090000
DTEND;TZID=America/Chicago:20211218T150000
DTSTAMP:20260424T130054
CREATED:20211201T153245Z
LAST-MODIFIED:20211209T205527Z
UID:4839-1639818000-1639839600@onefaithministryinc.com
SUMMARY:Course 1: Christian Counseling
DESCRIPTION:Our Christian Counseling courses are designed to teach and train individuals on how to provide Godly counsel based on biblical principles. Course 1 includes topics such as ethics\, confidentiality\, salvation\, teen crisis\, body language\, workplace issues\, maintaining and gaining good health\, and more. All christian counseling courses are standalone courses and DO NOT have to be taken in order. \nAll courses are currently held via Zoom. Zoom information will be sent to you upon registration. \nLearn More\nRegister Now
URL:https://onefaithministryinc.com/event/course-1-christian-counseling-12-18-21/
LOCATION:Virtual
ATTACH;FMTTYPE=image/jpeg:https://onefaithministryinc.com/wp-content/uploads/2021/12/OFM_Course1-Screen-12-18-21.jpg
END:VEVENT
BEGIN:VEVENT
DTSTART;TZID=UTC:20200328T090000
DTEND;TZID=UTC:20200328T150000
DTSTAMP:20260424T130054
CREATED:20200302T044116Z
LAST-MODIFIED:20200302T044116Z
UID:3838-1585386000-1585407600@onefaithministryinc.com
SUMMARY:Course 1: Christian Counseling
DESCRIPTION:Our Christian Counseling courses are designed to teach and train individuals on how to provide Godly counsel based on biblical principles. Course 1 includes topics such as ethics\, confidentiality\, salvation\, teen crisis\, body language\, workplace issues\, maintaining and gaining good health\, and more. All christian counseling courses are standalone courses and DO NOT have to be taken in order. \nLearn More\nRegister Now
URL:https://onefaithministryinc.com/event/course-1-christian-counseling/
LOCATION:Level 06
ATTACH;FMTTYPE=:
END:VEVENT
BEGIN:VEVENT
DTSTART;TZID=UTC:20200118T090000
DTEND;TZID=UTC:20200118T150000
DTSTAMP:20260424T130054
CREATED:20200104T225318Z
LAST-MODIFIED:20200104T225318Z
UID:3837-1579338000-1579359600@onefaithministryinc.com
SUMMARY:Course 2: Advanced Christian Counseling
DESCRIPTION:Our Christian Counseling courses are designed to teach and train individuals on how to provide Godly counsel based on biblical principles. This is Course 2 of 3. ALL Christian Counseling courses are STAND ALONE courses; THEY DO NOT HAVE TO BE TAKEN IN ORDER. But you must take courses 1 and 2 to become certified. \nLearn More\nRegister Now
URL:https://onefaithministryinc.com/event/course-2-advanced-christian-counseling/
LOCATION:Level 06
ATTACH;FMTTYPE=image/jpeg:https://onefaithministryinc.com/wp-content/uploads/2020/01/OFM_Course2_Screen.jpg
END:VEVENT
BEGIN:VEVENT
DTSTART;TZID=UTC:20190928T090000
DTEND;TZID=UTC:20190928T150000
DTSTAMP:20260424T130054
CREATED:20190909T173934Z
LAST-MODIFIED:20190909T173934Z
UID:3836-1569661200-1569682800@onefaithministryinc.com
SUMMARY:Course 1: Christian Counseling
DESCRIPTION:Our Christian Counseling courses are designed to teach and train individuals on how to provide Godly counsel based on biblical principles. Course 1 includes topics such as ethics\, confidentiality\, salvation\, teen crisis\, body language\, workplace issues\, maintaining and gaining good health\, and more. All christian counseling courses are standalone courses and DO NOT have to be taken in order. \nLearn More\nRegister Now
URL:https://onefaithministryinc.com/event/course-1-christian-counseling-9-28-19/
LOCATION:Level 06
ATTACH;FMTTYPE=image/jpeg:https://onefaithministryinc.com/wp-content/uploads/2019/09/OFM_Course1-Screen.jpg
END:VEVENT
BEGIN:VEVENT
DTSTART;TZID=UTC:20190824T090000
DTEND;TZID=UTC:20190824T150000
DTSTAMP:20260424T130054
CREATED:20190808T215703Z
LAST-MODIFIED:20190808T215703Z
UID:3835-1566637200-1566658800@onefaithministryinc.com
SUMMARY:Course 1
DESCRIPTION:Our Christian Counseling courses are designed to teach and train individuals on how to provide Godly counsel based on biblical principles. Course 1 includes topics such as ethics\, confidentiality\, salvation\, teen crisis\, body language\, workplace issues\, maintaining and gaining good health\, and more. All christian counseling courses are standalone courses and DO NOT have to be taken in order. \nLearn More\nRegister Now
URL:https://onefaithministryinc.com/event/course-1-christian-counseling-8-24-19/
LOCATION:Level 06
ATTACH;FMTTYPE=image/jpeg:https://onefaithministryinc.com/wp-content/uploads/2019/08/OFM_Course1_Screen.jpg
END:VEVENT
BEGIN:VEVENT
DTSTART;TZID=UTC:20190629T090000
DTEND;TZID=UTC:20190629T150000
DTSTAMP:20260424T130054
CREATED:20190606T065727Z
LAST-MODIFIED:20190606T065727Z
UID:3763-1561798800-1561820400@onefaithministryinc.com
SUMMARY:Course 3: Biblical & Clinical Therapy
DESCRIPTION:Our Christian Counseling courses are designed to teach and train individuals on how to provide Godly counsel based on biblical principles. Course 3 includes topics such as Generational Curses\, Alcohol and Drug Addictions\, Gambling\, Self Esteem\, Choices and Consequences\, Terminal Illness and Healing\, Motivational Gifts\, Care Giving for the Caregiver\, and Neurotransmitters. All christian counseling courses are standalone courses and DO NOT have to be taken in order.  \nLearn More\nRegister Now
URL:https://onefaithministryinc.com/event/course-3-biblical-clinical-therapy/
LOCATION:Level 06
ATTACH;FMTTYPE=image/jpeg:https://onefaithministryinc.com/wp-content/uploads/2019/06/OFM_Course3-Screen.jpg
END:VEVENT
BEGIN:VEVENT
DTSTART;TZID=UTC:20190427T090000
DTEND;TZID=UTC:20190427T150000
DTSTAMP:20260424T130054
CREATED:20190409T172701Z
LAST-MODIFIED:20190409T172701Z
UID:3749-1556355600-1556377200@onefaithministryinc.com
SUMMARY:Course 1: Christian Counseling
DESCRIPTION:Our Christian Counseling courses are designed to teach and train individuals on how to provide Godly counsel based on biblical principles. Course 1 includes topics such as ethics\, confidentiality\, salvation\, teen crisis\, body language\, workplace issues\, maintaining and gaining good health\, and more. All christian counseling courses are standalone courses and DO NOT have to be taken in order. \nLearn More\nRegister Now
URL:https://onefaithministryinc.com/event/course-1-christian-counseling-4-27-19/
LOCATION:Level 06
ATTACH;FMTTYPE=image/jpeg:https://onefaithministryinc.com/wp-content/uploads/2019/04/OFM_Course1-Screen.jpg
END:VEVENT
BEGIN:VEVENT
DTSTART;TZID=UTC:20190323T090000
DTEND;TZID=UTC:20190323T150000
DTSTAMP:20260424T130054
CREATED:20190315T033920Z
LAST-MODIFIED:20190315T033920Z
UID:3743-1553331600-1553353200@onefaithministryinc.com
SUMMARY:Course 1: Christian Counseling
DESCRIPTION:Our Christian Counseling courses are designed to teach and train individuals on how to provide Godly counsel based on biblical principles. Course 1 includes topics such as ethics\, confidentiality\, salvation\, teen crisis\, body language\, workplace issues\, maintaining and gaining good health\, and more. All christian counseling courses are standalone courses and DO NOT have to be taken in order. \nLearn More\nRegister Now
URL:https://onefaithministryinc.com/event/course-1-christian-counseling_3-23/
LOCATION:Level 06
END:VEVENT
BEGIN:VEVENT
DTSTART;TZID=UTC:20190216T090000
DTEND;TZID=UTC:20190216T150000
DTSTAMP:20260424T130055
CREATED:20190125T070223Z
LAST-MODIFIED:20190125T070223Z
UID:3734-1550307600-1550329200@onefaithministryinc.com
SUMMARY:Course 1: Christian Counseling
DESCRIPTION:Our Christian Counseling courses are designed to teach and train individuals on how to provide Godly counsel based on biblical principles. Course 1 includes topics such as ethics\, confidentiality\, salvation\, teen crisis\, body language\, workplace issues\, maintaining and gaining good health\, and more. All christian counseling courses are standalone courses and DO NOT have to be taken in order. \nLearn More\nRegister Now
URL:https://onefaithministryinc.com/event/course-1-christian-counseling-1/
LOCATION:Level 06
END:VEVENT
BEGIN:VEVENT
DTSTART;TZID=UTC:20181027T090000
DTEND;TZID=UTC:20181027T150000
DTSTAMP:20260424T130055
CREATED:20181008T175106Z
LAST-MODIFIED:20181008T175106Z
UID:3717-1540630800-1540652400@onefaithministryinc.com
SUMMARY:Course 2: Advanced Christian Counseling
DESCRIPTION:Our Christian Counseling courses are designed to teach and train individuals on how to provide Godly counsel based on biblical principles. This is Course 2 of 3. ALL Christian Counseling courses are STAND ALONE courses; THEY DO NOT HAVE TO BE TAKEN IN ORDER. But you must take courses 1 and 2 to become certified. \nLearn More\nRegister Now
URL:https://onefaithministryinc.com/event/course-2-advanced-christian-counseling-10-27-19/
LOCATION:Level 06
ATTACH;FMTTYPE=image/jpeg:https://onefaithministryinc.com/wp-content/uploads/2018/10/OFM_Course2-Screen.jpg
END:VEVENT
BEGIN:VEVENT
DTSTART;TZID=UTC:20180714T090000
DTEND;TZID=UTC:20180714T120000
DTSTAMP:20260424T130055
CREATED:20180702T040521Z
LAST-MODIFIED:20180702T040521Z
UID:3689-1531558800-1531569600@onefaithministryinc.com
SUMMARY:Church Compliance Training
DESCRIPTION:In this course\, we cover topics such as: how to prepare legal documents; church accounting (offering\, donations\, and gifts); pastor’s housing allowance; pastor’s salary; inventory; IRS forms such as the 990\, 941\, 1099\, W-2\, W-3\, etc.; business activities of the church; incorporation; 501c3; discussion of IRS manual for churches; by-laws; and much more. The cost is $100 for the first person and $50 for each additional person. \nLearn More\nRegister Now
URL:https://onefaithministryinc.com/event/church-compliance-training/
LOCATION:Level 06
ATTACH;FMTTYPE=image/jpeg:https://onefaithministryinc.com/wp-content/uploads/2018/07/OFM_ChurchCompliance.jpg
END:VEVENT
BEGIN:VEVENT
DTSTART;TZID=UTC:20180203T090000
DTEND;TZID=UTC:20180203T120000
DTSTAMP:20260424T130055
CREATED:20171230T030918Z
LAST-MODIFIED:20171230T030918Z
UID:3619-1517648400-1517659200@onefaithministryinc.com
SUMMARY:Grant Writing Training
DESCRIPTION:Learn how to write grants effectively and receive funding for communities and surrounding areas. \nLearn More\nRegister Now
URL:https://onefaithministryinc.com/event/grant-writing-training-2-3-18/
LOCATION:Level 06
ATTACH;FMTTYPE=image/jpeg:https://onefaithministryinc.com/wp-content/uploads/2017/12/OFM_GrantWriting_Screen.jpg
END:VEVENT
END:VCALENDAR